Package: pvac Version: 1.55.0 Command: /home/biocbuild/R/R/bin/R CMD INSTALL pvac StartedAt: 2025-01-29 19:32:57 -0000 (Wed, 29 Jan 2025) EndedAt: 2025-01-29 19:33:20 -0000 (Wed, 29 Jan 2025) EllapsedTime: 23.0 seconds RetCode: 0 Status: OK