Package: pvac Version: 1.55.0 Command: rm -rf pvac.buildbin-libdir && mkdir pvac.buildbin-libdir && /Users/biocbuild/BBS/utils/build-universal.sh pvac_1.55.0.tar.gz /Library/Frameworks/R.framework/Resources/bin/R pvac.buildbin-libdir StartedAt: 2025-02-05 00:55:35 -0500 (Wed, 05 Feb 2025) EndedAt: 2025-02-05 00:55:41 -0500 (Wed, 05 Feb 2025) EllapsedTime: 6.8 seconds RetCode: 0 Status: OK PackageFile: pvac_1.55.0.tgz PackageFileSize: 253.3 KiB