Package: pvac Version: 1.55.0 Command: /Library/Frameworks/R.framework/Resources/bin/R CMD check --install=check:pvac.install-out.txt --library=/Library/Frameworks/R.framework/Resources/library --no-vignettes --timings pvac_1.55.0.tar.gz StartedAt: 2025-02-04 22:33:45 -0500 (Tue, 04 Feb 2025) EndedAt: 2025-02-04 22:34:32 -0500 (Tue, 04 Feb 2025) EllapsedTime: 46.8 seconds RetCode: 0 Status: OK CheckDir: pvac.Rcheck Warnings: 0