Package: pvac Version: 1.55.0 Command: /Library/Frameworks/R.framework/Resources/bin/R CMD INSTALL pvac StartedAt: 2025-02-04 15:05:58 -0500 (Tue, 04 Feb 2025) EndedAt: 2025-02-04 15:06:34 -0500 (Tue, 04 Feb 2025) EllapsedTime: 36.8 seconds RetCode: 0 Status: OK