Package: pvac Version: 1.55.0 Command: chmod a+r pvac -R && E:\biocbuild\bbs-3.21-bioc\R\bin\R.exe CMD build --keep-empty-dirs --no-resave-data pvac StartedAt: 2025-02-04 20:57:00 -0500 (Tue, 04 Feb 2025) EndedAt: 2025-02-04 20:58:22 -0500 (Tue, 04 Feb 2025) EllapsedTime: 82.2 seconds RetCode: 0 Status: OK PackageFile: pvac_1.55.0.tar.gz PackageFileSize: 129.3 KiB