Package: pvac Version: 1.55.0 Command: E:\biocbuild\bbs-3.21-bioc\R\bin\R.exe CMD INSTALL pvac StartedAt: 2025-02-04 15:27:02 -0500 (Tue, 04 Feb 2025) EndedAt: 2025-02-04 15:27:11 -0500 (Tue, 04 Feb 2025) EllapsedTime: 9.0 seconds RetCode: 0 Status: OK