Package: pvca Version: 1.47.0 Command: /Library/Frameworks/R.framework/Resources/bin/R CMD INSTALL pvca StartedAt: 2025-02-09 15:06:30 -0500 (Sun, 09 Feb 2025) EndedAt: 2025-02-09 15:06:35 -0500 (Sun, 09 Feb 2025) EllapsedTime: 4.2 seconds RetCode: 0 Status: OK