Package: pvca Version: 1.47.0 Command: /Library/Frameworks/R.framework/Resources/bin/R CMD check --install=check:pvca.install-out.txt --library=/Library/Frameworks/R.framework/Resources/library --no-vignettes --timings pvca_1.47.0.tar.gz StartedAt: 2025-02-09 22:51:36 -0500 (Sun, 09 Feb 2025) EndedAt: 2025-02-09 22:52:58 -0500 (Sun, 09 Feb 2025) EllapsedTime: 82.3 seconds RetCode: 0 Status: OK CheckDir: pvca.Rcheck Warnings: 0