Package: pvca Version: 1.47.0 Command: /home/biocbuild/bbs-3.21-bioc/R/bin/R CMD build --keep-empty-dirs --no-resave-data pvca StartedAt: 2025-02-09 18:45:16 -0500 (Sun, 09 Feb 2025) EndedAt: 2025-02-09 18:45:35 -0500 (Sun, 09 Feb 2025) EllapsedTime: 19.0 seconds RetCode: 0 Status: OK PackageFile: pvca_1.47.0.tar.gz PackageFileSize: 218.1 KiB