Package: pvca Version: 1.47.0 Command: /home/biocbuild/bbs-3.21-bioc/R/bin/R CMD INSTALL pvca StartedAt: 2025-02-09 15:12:51 -0500 (Sun, 09 Feb 2025) EndedAt: 2025-02-09 15:13:00 -0500 (Sun, 09 Feb 2025) EllapsedTime: 9.0 seconds RetCode: 0 Status: OK