Package: pwalign Version: 1.3.2 Command: rm -rf pwalign.buildbin-libdir && mkdir pwalign.buildbin-libdir && /Users/biocbuild/BBS/utils/build-universal.sh pwalign_1.3.2.tar.gz /Library/Frameworks/R.framework/Resources/bin/R pwalign.buildbin-libdir StartedAt: 2025-02-09 22:26:01 -0500 (Sun, 09 Feb 2025) EndedAt: 2025-02-09 22:26:10 -0500 (Sun, 09 Feb 2025) EllapsedTime: 8.2 seconds RetCode: 0 Status: OK PackageFile: pwalign_1.3.2.tgz PackageFileSize: 757.7 KiB