Package: pwalign Version: 1.3.2 Command: /Library/Frameworks/R.framework/Resources/bin/R CMD check --install=check:pwalign.install-out.txt --library=/Library/Frameworks/R.framework/Resources/library --no-vignettes --timings pwalign_1.3.2.tar.gz StartedAt: 2025-02-09 20:47:39 -0500 (Sun, 09 Feb 2025) EndedAt: 2025-02-09 20:48:22 -0500 (Sun, 09 Feb 2025) EllapsedTime: 42.5 seconds RetCode: 0 Status: OK CheckDir: pwalign.Rcheck Warnings: 0