Package: pwalign Version: 1.3.2 Command: /home/biocbuild/bbs-3.21-bioc/R/bin/R CMD INSTALL pwalign StartedAt: 2025-02-12 15:49:12 -0500 (Wed, 12 Feb 2025) EndedAt: 2025-02-12 15:49:29 -0500 (Wed, 12 Feb 2025) EllapsedTime: 16.4 seconds RetCode: 0 Status: OK