Package: pwalign Version: 1.3.2 Command: E:\biocbuild\bbs-3.21-bioc\R\bin\R.exe CMD check --no-multiarch --install=check:pwalign.install-out.txt --library=E:\biocbuild\bbs-3.21-bioc\R\library --no-vignettes --timings pwalign_1.3.2.tar.gz StartedAt: 2025-02-10 04:21:13 -0500 (Mon, 10 Feb 2025) EndedAt: 2025-02-10 04:23:22 -0500 (Mon, 10 Feb 2025) EllapsedTime: 128.7 seconds RetCode: 0 Status: OK CheckDir: pwalign.Rcheck Warnings: 0