Package: qPLEXanalyzer Version: 1.25.0 Command: rm -rf qPLEXanalyzer.buildbin-libdir && mkdir qPLEXanalyzer.buildbin-libdir && /Users/biocbuild/BBS/utils/build-universal.sh qPLEXanalyzer_1.25.0.tar.gz /Library/Frameworks/R.framework/Resources/bin/R qPLEXanalyzer.buildbin-libdir StartedAt: 2025-02-09 22:26:11 -0500 (Sun, 09 Feb 2025) EndedAt: 2025-02-09 22:26:27 -0500 (Sun, 09 Feb 2025) EllapsedTime: 16.4 seconds RetCode: 0 Status: OK PackageFile: qPLEXanalyzer_1.25.0.tgz PackageFileSize: 3.744 MiB