Package: qPLEXanalyzer Version: 1.25.0 Command: /home/biocbuild/R/R/bin/R CMD check --install=check:qPLEXanalyzer.install-out.txt --library=/home/biocbuild/R/R/site-library --no-vignettes --timings qPLEXanalyzer_1.25.0.tar.gz StartedAt: 2025-01-28 14:12:15 -0000 (Tue, 28 Jan 2025) EndedAt: 2025-01-28 14:18:41 -0000 (Tue, 28 Jan 2025) EllapsedTime: 385.4 seconds RetCode: 0 Status: OK CheckDir: qPLEXanalyzer.Rcheck Warnings: 0