Package: qPLEXanalyzer Version: 1.25.0 Command: rm -rf qPLEXanalyzer.buildbin-libdir && mkdir qPLEXanalyzer.buildbin-libdir && /Users/biocbuild/BBS/utils/build-universal.sh qPLEXanalyzer_1.25.0.tar.gz /Library/Frameworks/R.framework/Resources/bin/R qPLEXanalyzer.buildbin-libdir StartedAt: 2025-02-10 01:09:47 -0500 (Mon, 10 Feb 2025) EndedAt: 2025-02-10 01:10:42 -0500 (Mon, 10 Feb 2025) EllapsedTime: 55.6 seconds RetCode: 0 Status: OK PackageFile: qPLEXanalyzer_1.25.0.tgz PackageFileSize: 3.736 MiB