Package: qPLEXanalyzer Version: 1.25.0 Command: /Library/Frameworks/R.framework/Resources/bin/R CMD build --keep-empty-dirs --no-resave-data qPLEXanalyzer StartedAt: 2025-02-09 18:02:52 -0500 (Sun, 09 Feb 2025) EndedAt: 2025-02-09 18:04:04 -0500 (Sun, 09 Feb 2025) EllapsedTime: 72.0 seconds RetCode: 0 Status: OK PackageFile: qPLEXanalyzer_1.25.0.tar.gz PackageFileSize: 3.614 MiB