Package: qPLEXanalyzer Version: 1.25.0 Command: /Library/Frameworks/R.framework/Resources/bin/R CMD INSTALL qPLEXanalyzer StartedAt: 2025-02-09 15:30:24 -0500 (Sun, 09 Feb 2025) EndedAt: 2025-02-09 15:31:16 -0500 (Sun, 09 Feb 2025) EllapsedTime: 52.3 seconds RetCode: 0 Status: OK