Package: qPLEXanalyzer Version: 1.25.0 Command: /home/biocbuild/bbs-3.21-bioc/R/bin/R CMD build --keep-empty-dirs --no-resave-data qPLEXanalyzer StartedAt: 2025-02-12 18:42:15 -0500 (Wed, 12 Feb 2025) EndedAt: 2025-02-12 18:43:19 -0500 (Wed, 12 Feb 2025) EllapsedTime: 64.1 seconds RetCode: 0 Status: OK PackageFile: qPLEXanalyzer_1.25.0.tar.gz PackageFileSize: 3.535 MiB