Package: qcmetrics Version: 1.45.0 Command: /home/biocbuild/bbs-3.21-bioc/R/bin/R CMD check --install=check:qcmetrics.install-out.txt --library=/home/biocbuild/bbs-3.21-bioc/R/site-library --timings qcmetrics_1.45.0.tar.gz StartedAt: 2025-02-10 01:34:12 -0500 (Mon, 10 Feb 2025) EndedAt: 2025-02-10 01:35:48 -0500 (Mon, 10 Feb 2025) EllapsedTime: 95.1 seconds RetCode: 0 Status: OK CheckDir: qcmetrics.Rcheck Warnings: 0