Package: qcmetrics Version: 1.45.0 Command: rm -rf qcmetrics.buildbin-libdir && mkdir qcmetrics.buildbin-libdir && E:\biocbuild\bbs-3.21-bioc\R\bin\R.exe CMD INSTALL --build --library=qcmetrics.buildbin-libdir qcmetrics_1.45.0.tar.gz StartedAt: 2025-02-10 08:26:19 -0500 (Mon, 10 Feb 2025) EndedAt: 2025-02-10 08:26:59 -0500 (Mon, 10 Feb 2025) EllapsedTime: 39.7 seconds RetCode: 0 Status: OK PackageFile: qcmetrics_1.45.0.zip PackageFileSize: 4.074 MiB