Package: qcmetrics Version: 1.45.0 Command: chmod a+r qcmetrics -R && E:\biocbuild\bbs-3.21-bioc\R\bin\R.exe CMD build --keep-empty-dirs --no-resave-data qcmetrics StartedAt: 2025-02-09 20:55:08 -0500 (Sun, 09 Feb 2025) EndedAt: 2025-02-09 20:56:21 -0500 (Sun, 09 Feb 2025) EllapsedTime: 73.3 seconds RetCode: 0 Status: OK PackageFile: qcmetrics_1.45.0.tar.gz PackageFileSize: 4.215 MiB