Package: qcmetrics Version: 1.45.0 Command: E:\biocbuild\bbs-3.21-bioc\R\bin\R.exe CMD check --no-multiarch --install=check:qcmetrics.install-out.txt --library=E:\biocbuild\bbs-3.21-bioc\R\library --no-vignettes --timings qcmetrics_1.45.0.tar.gz StartedAt: 2025-02-10 04:21:32 -0500 (Mon, 10 Feb 2025) EndedAt: 2025-02-10 04:23:06 -0500 (Mon, 10 Feb 2025) EllapsedTime: 94.0 seconds RetCode: 0 Status: OK CheckDir: qcmetrics.Rcheck Warnings: 0