Package: qcmetrics Version: 1.45.0 Command: E:\biocbuild\bbs-3.21-bioc\R\bin\R.exe CMD INSTALL qcmetrics StartedAt: 2025-02-09 15:34:03 -0500 (Sun, 09 Feb 2025) EndedAt: 2025-02-09 15:34:43 -0500 (Sun, 09 Feb 2025) EllapsedTime: 40.5 seconds RetCode: 0 Status: OK