Package: qpcrNorm Version: 1.65.0 Command: /home/biocbuild/bbs-3.21-bioc/R/bin/R CMD INSTALL qpcrNorm StartedAt: 2025-02-09 15:13:01 -0500 (Sun, 09 Feb 2025) EndedAt: 2025-02-09 15:13:05 -0500 (Sun, 09 Feb 2025) EllapsedTime: 3.8 seconds RetCode: 0 Status: OK