Package: qpcrNorm Version: 1.65.0 Command: rm -rf qpcrNorm.buildbin-libdir && mkdir qpcrNorm.buildbin-libdir && E:\biocbuild\bbs-3.21-bioc\R\bin\R.exe CMD INSTALL --build --library=qpcrNorm.buildbin-libdir qpcrNorm_1.65.0.tar.gz StartedAt: 2025-02-10 08:26:59 -0500 (Mon, 10 Feb 2025) EndedAt: 2025-02-10 08:27:10 -0500 (Mon, 10 Feb 2025) EllapsedTime: 11.1 seconds RetCode: 0 Status: OK PackageFile: qpcrNorm_1.65.0.zip PackageFileSize: 531 KiB