Package: qpgraph Version: 2.41.0 Command: rm -rf qpgraph.buildbin-libdir && mkdir qpgraph.buildbin-libdir && /Users/biocbuild/BBS/utils/build-universal.sh qpgraph_2.41.0.tar.gz /Library/Frameworks/R.framework/Resources/bin/R qpgraph.buildbin-libdir StartedAt: 2025-02-09 22:26:11 -0500 (Sun, 09 Feb 2025) EndedAt: 2025-02-09 22:26:36 -0500 (Sun, 09 Feb 2025) EllapsedTime: 25.6 seconds RetCode: 0 Status: OK PackageFile: qpgraph_2.41.0.tgz PackageFileSize: 4.094 MiB