Package: qpgraph Version: 2.41.0 Command: rm -rf qpgraph.buildbin-libdir && mkdir qpgraph.buildbin-libdir && /Users/biocbuild/BBS/utils/build-universal.sh qpgraph_2.41.0.tar.gz /Library/Frameworks/R.framework/Resources/bin/R qpgraph.buildbin-libdir StartedAt: 2025-02-10 01:09:44 -0500 (Mon, 10 Feb 2025) EndedAt: 2025-02-10 01:11:09 -0500 (Mon, 10 Feb 2025) EllapsedTime: 84.1 seconds RetCode: 0 Status: OK PackageFile: qpgraph_2.41.0.tgz PackageFileSize: 4.105 MiB