Package: qpgraph Version: 2.41.0 Command: /Library/Frameworks/R.framework/Resources/bin/R CMD build --keep-empty-dirs --no-resave-data qpgraph StartedAt: 2025-02-09 18:02:47 -0500 (Sun, 09 Feb 2025) EndedAt: 2025-02-09 18:05:06 -0500 (Sun, 09 Feb 2025) EllapsedTime: 138.4 seconds RetCode: 0 Status: OK PackageFile: qpgraph_2.41.0.tar.gz PackageFileSize: 2.706 MiB