Package: qpgraph Version: 2.41.0 Command: /Library/Frameworks/R.framework/Resources/bin/R CMD INSTALL qpgraph StartedAt: 2025-02-09 15:18:30 -0500 (Sun, 09 Feb 2025) EndedAt: 2025-02-09 15:19:48 -0500 (Sun, 09 Feb 2025) EllapsedTime: 78.2 seconds RetCode: 0 Status: OK