Package: qpgraph Version: 2.41.0 Command: /home/biocbuild/bbs-3.21-bioc/R/bin/R CMD build --keep-empty-dirs --no-resave-data qpgraph StartedAt: 2025-02-09 18:46:15 -0500 (Sun, 09 Feb 2025) EndedAt: 2025-02-09 18:48:06 -0500 (Sun, 09 Feb 2025) EllapsedTime: 111.2 seconds RetCode: 0 Status: OK PackageFile: qpgraph_2.41.0.tar.gz PackageFileSize: 2.696 MiB