Package: qpgraph Version: 2.41.0 Command: /home/biocbuild/bbs-3.21-bioc/R/bin/R CMD check --install=check:qpgraph.install-out.txt --library=/home/biocbuild/bbs-3.21-bioc/R/site-library --timings qpgraph_2.41.0.tar.gz StartedAt: 2025-02-10 01:35:24 -0500 (Mon, 10 Feb 2025) EndedAt: 2025-02-10 01:41:58 -0500 (Mon, 10 Feb 2025) EllapsedTime: 394.6 seconds RetCode: 0 Status: OK CheckDir: qpgraph.Rcheck Warnings: 0