Package: qsea Version: 1.33.0 Command: /home/biocbuild/R/R/bin/R CMD build --keep-empty-dirs --no-resave-data qsea StartedAt: 2025-01-29 01:26:22 -0000 (Wed, 29 Jan 2025) EndedAt: 2025-01-29 01:27:41 -0000 (Wed, 29 Jan 2025) EllapsedTime: 79.1 seconds RetCode: 0 Status: OK PackageFile: qsea_1.33.0.tar.gz PackageFileSize: 676.7 KiB