Package: qsea Version: 1.33.0 Command: rm -rf qsea.buildbin-libdir && mkdir qsea.buildbin-libdir && /Users/biocbuild/BBS/utils/build-universal.sh qsea_1.33.0.tar.gz /Library/Frameworks/R.framework/Resources/bin/R qsea.buildbin-libdir StartedAt: 2025-02-10 01:09:50 -0500 (Mon, 10 Feb 2025) EndedAt: 2025-02-10 01:10:41 -0500 (Mon, 10 Feb 2025) EllapsedTime: 51.0 seconds RetCode: 0 Status: OK PackageFile: qsea_1.33.0.tgz PackageFileSize: 1.111 MiB