Package: qsea Version: 1.33.0 Command: /Library/Frameworks/R.framework/Resources/bin/R CMD INSTALL qsea StartedAt: 2025-02-12 15:21:17 -0500 (Wed, 12 Feb 2025) EndedAt: 2025-02-12 15:22:03 -0500 (Wed, 12 Feb 2025) EllapsedTime: 45.7 seconds RetCode: 0 Status: OK