Package: qsmooth Version: 1.23.0 Command: /Library/Frameworks/R.framework/Resources/bin/R CMD build --keep-empty-dirs --no-resave-data qsmooth StartedAt: 2025-02-09 17:19:06 -0500 (Sun, 09 Feb 2025) EndedAt: 2025-02-09 17:19:33 -0500 (Sun, 09 Feb 2025) EllapsedTime: 27.3 seconds RetCode: 0 Status: OK PackageFile: qsmooth_1.23.0.tar.gz PackageFileSize: 1.3 MiB