Package: qsmooth Version: 1.23.0 Command: /home/biocbuild/R/R/bin/R CMD build --keep-empty-dirs --no-resave-data qsmooth StartedAt: 2025-01-29 01:26:28 -0000 (Wed, 29 Jan 2025) EndedAt: 2025-01-29 01:27:58 -0000 (Wed, 29 Jan 2025) EllapsedTime: 90.1 seconds RetCode: 0 Status: OK PackageFile: qsmooth_1.23.0.tar.gz PackageFileSize: 961.7 KiB