Package: qsmooth Version: 1.23.0 Command: /Library/Frameworks/R.framework/Resources/bin/R CMD check --install=check:qsmooth.install-out.txt --library=/Library/Frameworks/R.framework/Resources/library --no-vignettes --timings qsmooth_1.23.0.tar.gz StartedAt: 2025-02-03 22:38:34 -0500 (Mon, 03 Feb 2025) EndedAt: 2025-02-03 22:42:28 -0500 (Mon, 03 Feb 2025) EllapsedTime: 234.0 seconds RetCode: 0 Status: WARNINGS CheckDir: qsmooth.Rcheck Warnings: 1