Package: qsmooth Version: 1.23.0 Command: rm -rf qsmooth.buildbin-libdir && mkdir qsmooth.buildbin-libdir && E:\biocbuild\bbs-3.21-bioc\R\bin\R.exe CMD INSTALL --build --library=qsmooth.buildbin-libdir qsmooth_1.23.0.tar.gz StartedAt: 2025-02-10 08:27:07 -0500 (Mon, 10 Feb 2025) EndedAt: 2025-02-10 08:27:45 -0500 (Mon, 10 Feb 2025) EllapsedTime: 37.5 seconds RetCode: 0 Status: OK PackageFile: qsmooth_1.23.0.zip PackageFileSize: 944.2 KiB