Package: qsmooth Version: 1.23.0 Command: E:\biocbuild\bbs-3.21-bioc\R\bin\R.exe CMD check --no-multiarch --install=check:qsmooth.install-out.txt --library=E:\biocbuild\bbs-3.21-bioc\R\library --no-vignettes --timings qsmooth_1.23.0.tar.gz StartedAt: 2025-02-10 04:23:24 -0500 (Mon, 10 Feb 2025) EndedAt: 2025-02-10 04:27:38 -0500 (Mon, 10 Feb 2025) EllapsedTime: 254.4 seconds RetCode: 0 Status: WARNINGS CheckDir: qsmooth.Rcheck Warnings: 1