Package: qsmooth Version: 1.23.0 Command: E:\biocbuild\bbs-3.21-bioc\R\bin\R.exe CMD INSTALL qsmooth StartedAt: 2025-02-12 16:11:14 -0500 (Wed, 12 Feb 2025) EndedAt: 2025-02-12 16:11:55 -0500 (Wed, 12 Feb 2025) EllapsedTime: 40.3 seconds RetCode: 0 Status: OK