Package: quantro Version: 1.41.0 Command: /Library/Frameworks/R.framework/Resources/bin/R CMD INSTALL quantro StartedAt: 2025-02-12 15:26:59 -0500 (Wed, 12 Feb 2025) EndedAt: 2025-02-12 15:27:18 -0500 (Wed, 12 Feb 2025) EllapsedTime: 19.1 seconds RetCode: 0 Status: OK