Package: quantro Version: 1.41.0 Command: /home/biocbuild/R/R/bin/R CMD check --install=check:quantro.install-out.txt --library=/home/biocbuild/R/R/site-library --no-vignettes --timings quantro_1.41.0.tar.gz StartedAt: 2025-01-28 14:13:35 -0000 (Tue, 28 Jan 2025) EndedAt: 2025-01-28 14:20:50 -0000 (Tue, 28 Jan 2025) EllapsedTime: 434.5 seconds RetCode: 0 Status: WARNINGS CheckDir: quantro.Rcheck Warnings: 6