Package: quantro Version: 1.41.0 Command: /home/biocbuild/R/R/bin/R CMD INSTALL quantro StartedAt: 2025-01-29 20:32:56 -0000 (Wed, 29 Jan 2025) EndedAt: 2025-01-29 20:34:01 -0000 (Wed, 29 Jan 2025) EllapsedTime: 65.6 seconds RetCode: 0 Status: OK