Package: quantro Version: 1.41.0 Command: /Library/Frameworks/R.framework/Resources/bin/R CMD INSTALL quantro StartedAt: 2025-02-09 15:43:11 -0500 (Sun, 09 Feb 2025) EndedAt: 2025-02-09 15:44:14 -0500 (Sun, 09 Feb 2025) EllapsedTime: 62.6 seconds RetCode: 0 Status: OK