Package: quantro Version: 1.41.0 Command: /home/biocbuild/bbs-3.21-bioc/R/bin/R CMD build --keep-empty-dirs --no-resave-data quantro StartedAt: 2025-02-04 18:44:49 -0500 (Tue, 04 Feb 2025) EndedAt: 2025-02-04 18:46:28 -0500 (Tue, 04 Feb 2025) EllapsedTime: 99.1 seconds RetCode: 0 Status: OK PackageFile: quantro_1.41.0.tar.gz PackageFileSize: 2.764 MiB