Package: quantro Version: 1.41.0 Command: /home/biocbuild/bbs-3.21-bioc/R/bin/R CMD INSTALL quantro StartedAt: 2025-02-04 15:43:16 -0500 (Tue, 04 Feb 2025) EndedAt: 2025-02-04 15:44:01 -0500 (Tue, 04 Feb 2025) EllapsedTime: 45.6 seconds RetCode: 0 Status: OK