############################################################################## ############################################################################## ### ### Running command: ### ### chmod a+r quantro -R && E:\biocbuild\bbs-3.21-bioc\R\bin\R.exe CMD build --keep-empty-dirs --no-resave-data quantro ### ############################################################################## ############################################################################## * checking for file 'quantro/DESCRIPTION' ... OK * preparing 'quantro': * checking DESCRIPTION meta-information ... OK * installing the package to build vignettes * creating vignettes ...Warning in file(con, "r") : cannot open file 'E:\biocbuild\bbs-3.21-bioc\tmpdir\RtmpKkSwux\xshell6cb034cb721c': Permission denied Error in file(con, "r") : cannot open the connection Execution halted