Package: quantro Version: 1.41.0 Command: chmod a+r quantro -R && E:\biocbuild\bbs-3.21-bioc\R\bin\R.exe CMD build --keep-empty-dirs --no-resave-data quantro StartedAt: 2025-02-04 20:59:51 -0500 (Tue, 04 Feb 2025) EndedAt: 2025-02-04 21:02:00 -0500 (Tue, 04 Feb 2025) EllapsedTime: 129.3 seconds RetCode: 1 Status: ERROR PackageFile: None PackageFileSize: NA